BEGIN:VCALENDAR
VERSION:2.0
PRODID:-//National Museum of World War II Aviation - ECPv6.15.20//NONSGML v1.0//EN
CALSCALE:GREGORIAN
METHOD:PUBLISH
X-ORIGINAL-URL:https://www.worldwariiaviation.org
X-WR-CALDESC:Events for National Museum of World War II Aviation
REFRESH-INTERVAL;VALUE=DURATION:PT1H
X-Robots-Tag:noindex
X-PUBLISHED-TTL:PT1H
BEGIN:VTIMEZONE
TZID:UTC
BEGIN:STANDARD
TZOFFSETFROM:+0000
TZOFFSETTO:+0000
TZNAME:UTC
DTSTART:20210101T000000
END:STANDARD
END:VTIMEZONE
BEGIN:VEVENT
DTSTART;TZID=UTC:20220528T093000
DTEND;TZID=UTC:20220528T170000
DTSTAMP:20260422T211716
CREATED:20220328T185326Z
LAST-MODIFIED:20220328T185326Z
UID:12717-1653730200-1653757200@www.worldwariiaviation.org
SUMMARY:Special Event: March 18\,1945—The Biggest Berlin Mission of the War
DESCRIPTION:Special Event: March 18\,1945—The Biggest Berlin Mission of the War\nHistory Presentation\, P-51 Flight Demonstration\nMay 28\, 2022 at 9:30 am
URL:https://www.worldwariiaviation.org/event/special-event-march-181945-the-biggest-berlin-mission-of-the-war
END:VEVENT
END:VCALENDAR