BEGIN:VCALENDAR
VERSION:2.0
PRODID:-//National Museum of World War II Aviation - ECPv6.15.20//NONSGML v1.0//EN
CALSCALE:GREGORIAN
METHOD:PUBLISH
X-WR-CALNAME:National Museum of World War II Aviation
X-ORIGINAL-URL:https://www.worldwariiaviation.org
X-WR-CALDESC:Events for National Museum of World War II Aviation
REFRESH-INTERVAL;VALUE=DURATION:PT1H
X-Robots-Tag:noindex
X-PUBLISHED-TTL:PT1H
BEGIN:VTIMEZONE
TZID:UTC
BEGIN:STANDARD
TZOFFSETFROM:+0000
TZOFFSETTO:+0000
TZNAME:UTC
DTSTART:20210101T000000
END:STANDARD
END:VTIMEZONE
BEGIN:VEVENT
DTSTART;TZID=UTC:20220305T080000
DTEND;TZID=UTC:20220305T120000
DTSTAMP:20260423T003647
CREATED:20220301T024504Z
LAST-MODIFIED:20220301T024504Z
UID:12331-1646467200-1646481600@www.worldwariiaviation.org
SUMMARY:Closed in the morning for private event.
DESCRIPTION:Closed in the morning for private event.
URL:https://www.worldwariiaviation.org/event/closed-in-the-morning-for-private-event
END:VEVENT
BEGIN:VEVENT
DTSTART;TZID=UTC:20220319T093000
DTEND;TZID=UTC:20220319T170000
DTSTAMP:20260423T003647
CREATED:20220301T041616Z
LAST-MODIFIED:20220301T041616Z
UID:12334-1647682200-1647709200@www.worldwariiaviation.org
SUMMARY:National Museum of WWII Aviation Special Event-Early U.S. Aircraft Carrier Raids - Flight Demonstration-SBD Dauntless Dive Bomber
DESCRIPTION:Saturday\, March 19 9:30 AM \nThe next in a series of special events at the museum is slated for Saturday\, March 19. The event will include a history presentation on the U.S. aircraft carrier raids on Japanese-held islands early in World War II. These raids came in response to Japan’s December 7\, 1941 attack on Pearl Harbor and led up to the turning point in the Pacific at the Battle of Midway. \nThis one-hour event will be held at 9:30 am in the WestPac Hangar located on the museum campus. The presentation will be made by John Lynch\, a museum docent and former U.S. Navy officer. \nThe museum is planning to to fly its rare Douglas SBD Dauntless dive bomber\, weather permitting. \nThe schedule for this special event is as follows: \n8:00 am           Doors Open\n9:30 am           Presentation\n10:00 am         SBD Walk-Around and Start-Up\n10:30 am         SBD Taxi and Take-Off \nPurchase of advance tickets on the museum’s website is encouraged. Advance ticket prices are: \nAdult $15 \nChild (4-12) $11 \nSenior $13 \nMilitary $13 \nWW2 Vet Free \nFor more information contact the museum’s Front Desk at 719 637-7559.
URL:https://www.worldwariiaviation.org/event/national-museum-of-wwii-aviation-special-event-early-u-s-aircraft-carrier-raids-flight-demonstration-sbd-dauntless-dive-bomber
END:VEVENT
END:VCALENDAR