BEGIN:VCALENDAR
VERSION:2.0
PRODID:-//National Museum of World War II Aviation - ECPv6.15.20//NONSGML v1.0//EN
CALSCALE:GREGORIAN
METHOD:PUBLISH
X-ORIGINAL-URL:https://www.worldwariiaviation.org
X-WR-CALDESC:Events for National Museum of World War II Aviation
REFRESH-INTERVAL;VALUE=DURATION:PT1H
X-Robots-Tag:noindex
X-PUBLISHED-TTL:PT1H
BEGIN:VTIMEZONE
TZID:UTC
BEGIN:STANDARD
TZOFFSETFROM:+0000
TZOFFSETTO:+0000
TZNAME:UTC
DTSTART:20200101T000000
END:STANDARD
END:VTIMEZONE
BEGIN:VEVENT
DTSTART;TZID=UTC:20211203T130000
DTEND;TZID=UTC:20211203T170000
DTSTAMP:20260423T061417
CREATED:20211025T185428Z
LAST-MODIFIED:20211025T185428Z
UID:11510-1638536400-1638550800@www.worldwariiaviation.org
SUMMARY:Closed at 1pm For Private Event
DESCRIPTION:The National Museum of World War II Aviation\nwill close at 1pm on Friday\, December 3\nfor a private event.
URL:https://www.worldwariiaviation.org/event/closed-for-private-event
END:VEVENT
BEGIN:VEVENT
DTSTART;VALUE=DATE:20211207
DTEND;VALUE=DATE:20211208
DTSTAMP:20260423T061417
CREATED:20211119T051807Z
LAST-MODIFIED:20211119T051807Z
UID:11662-1638835200-1638921599@www.worldwariiaviation.org
SUMMARY:80th anniversary of the  attack on Pearl Harbor
DESCRIPTION:The National Museum of World War II Aviation\nwill be open to the public on\nDecember 7\, 2021 10am to 5pm\nfor the 80th anniversary of the attack on Pearl Harbor
URL:https://www.worldwariiaviation.org/event/80th-anniversary-of-the-attack-on-pearl-harbor
END:VEVENT
BEGIN:VEVENT
DTSTART;TZID=UTC:20211212T150000
DTEND;TZID=UTC:20211212T170000
DTSTAMP:20260423T061417
CREATED:20211025T185515Z
LAST-MODIFIED:20211025T185515Z
UID:11512-1639321200-1639328400@www.worldwariiaviation.org
SUMMARY:Closed at 3pm for Private Event
DESCRIPTION:The National Museum of World War II Aviation\nwill close at 3pm on Sunday\, December 12\nfor a private event.
URL:https://www.worldwariiaviation.org/event/closed-for-private-event-2
END:VEVENT
BEGIN:VEVENT
DTSTART;VALUE=DATE:20211225
DTEND;VALUE=DATE:20211226
DTSTAMP:20260423T061417
CREATED:20211025T185727Z
LAST-MODIFIED:20211025T185727Z
UID:11516-1640390400-1640476799@www.worldwariiaviation.org
SUMMARY:Closed for Christmas
DESCRIPTION:The National Museum will be closed all day on\nSaturday\, December 25 for Christmas
URL:https://www.worldwariiaviation.org/event/closed-for-christmas
END:VEVENT
END:VCALENDAR