BEGIN:VCALENDAR
VERSION:2.0
PRODID:-//National Museum of World War II Aviation - ECPv6.15.20//NONSGML v1.0//EN
CALSCALE:GREGORIAN
METHOD:PUBLISH
X-WR-CALNAME:National Museum of World War II Aviation
X-ORIGINAL-URL:https://www.worldwariiaviation.org
X-WR-CALDESC:Events for National Museum of World War II Aviation
REFRESH-INTERVAL;VALUE=DURATION:PT1H
X-Robots-Tag:noindex
X-PUBLISHED-TTL:PT1H
BEGIN:VTIMEZONE
TZID:UTC
BEGIN:STANDARD
TZOFFSETFROM:+0000
TZOFFSETTO:+0000
TZNAME:UTC
DTSTART:20200101T000000
END:STANDARD
END:VTIMEZONE
BEGIN:VEVENT
DTSTART;VALUE=DATE:20211110
DTEND;VALUE=DATE:20211111
DTSTAMP:20260423T074624
CREATED:20211025T191201Z
LAST-MODIFIED:20211025T191201Z
UID:11520-1636502400-1636588799@www.worldwariiaviation.org
SUMMARY:Closed for Private Event
DESCRIPTION:The National Museum of World War II Aviation\nwill close all day on November 10th\nfor a private event.
URL:https://www.worldwariiaviation.org/event/closed-for-private-event-3
END:VEVENT
BEGIN:VEVENT
DTSTART;VALUE=DATE:20211111
DTEND;VALUE=DATE:20211112
DTSTAMP:20260423T074624
CREATED:20211025T191248Z
LAST-MODIFIED:20211025T191248Z
UID:11522-1636588800-1636675199@www.worldwariiaviation.org
SUMMARY:Closed at 1pm for Private Event
DESCRIPTION:The National Museum of World War II Aviation\nwill close until 1pm on November 11th\nfor a private event.
URL:https://www.worldwariiaviation.org/event/closed-for-private-event-4
END:VEVENT
BEGIN:VEVENT
DTSTART;VALUE=DATE:20211125
DTEND;VALUE=DATE:20211126
DTSTAMP:20260423T074624
CREATED:20211025T185640Z
LAST-MODIFIED:20211025T185640Z
UID:11514-1637798400-1637884799@www.worldwariiaviation.org
SUMMARY:Closed for Thanksgiving
DESCRIPTION:The National Museum will be closed all day on\nThursday\, November 25 for Thanksgiving
URL:https://www.worldwariiaviation.org/event/closed-for-thanksgiving
END:VEVENT
END:VCALENDAR